BEGIN:VCALENDAR
VERSION:2.0
PRODID:-//eventon.com NONSGML v1.0//EN
CALSCALE:GREGORIAN
METHOD:PUBLISH
BEGIN:VEVENT
UID:69e7425e9c7a8
DTSTAMP:20260421T092446Z
DTSTART:20260820T163000Z
DTEND:20260820T215900Z
LOCATION:Gemeindehaus Weißfrauenbach 24
SUMMARY:Ortsteilratssitzung
DESCRIPTION:Gäste sind herzlich willkommen.\nhttps://erfurt-kuehnhausen.de
 /events/ortsteilratssitzung-7/
URL:https://erfurt-kuehnhausen.de/events/ortsteilratssitzung-7/
END:VEVENT
END:VCALENDAR